BEGIN:VCALENDAR
VERSION:2.0
PRODID:-// - ECPv6.15.20//NONSGML v1.0//EN
CALSCALE:GREGORIAN
METHOD:PUBLISH
X-ORIGINAL-URL:https://aaved.org
X-WR-CALDESC:Events for 
REFRESH-INTERVAL;VALUE=DURATION:PT1H
X-Robots-Tag:noindex
X-PUBLISHED-TTL:PT1H
BEGIN:VTIMEZONE
TZID:UTC
BEGIN:STANDARD
TZOFFSETFROM:+0000
TZOFFSETTO:+0000
TZNAME:UTC
DTSTART:20220101T000000
END:STANDARD
END:VTIMEZONE
BEGIN:VEVENT
DTSTART;TZID=UTC:20230423T170000
DTEND;TZID=UTC:20230423T190000
DTSTAMP:20260422T014440
CREATED:20230404T093026Z
LAST-MODIFIED:20250923T183245Z
UID:10000002-1682269200-1682276400@aaved.org
SUMMARY:Heritage Month Launch Party
DESCRIPTION:Over 240 classrooms have signed up for a PreK-5 Heritage Month Kit! That means that over 240 GA classrooms will learn about the achievements and history of our impactful communities.  Invitations have been sent to all who registered. \nWe will gather over a meal\, learn about the kit and build community.
URL:https://aaved.org/event/launchparty/
LOCATION:Asian Americans Advancing Justice Atlanta Office\, 5680 Oakbrook Pkwy suite 148\, Norcross\, GA\, 30093
CATEGORIES:Celebration,Learning
ATTACH;FMTTYPE=image/png:https://aaved.org/wp-content/uploads/2023/04/HeritageKit_Sticker.png
END:VEVENT
END:VCALENDAR